BEGIN:VCALENDAR
VERSION:2.0
PRODID:-//Sunshine Coast Bowmen - ECPv6.15.20//NONSGML v1.0//EN
CALSCALE:GREGORIAN
METHOD:PUBLISH
X-ORIGINAL-URL:https://sunshinecoastbowmen.org.au
X-WR-CALDESC:Events for Sunshine Coast Bowmen
REFRESH-INTERVAL;VALUE=DURATION:PT1H
X-Robots-Tag:noindex
X-PUBLISHED-TTL:PT1H
BEGIN:VTIMEZONE
TZID:Australia/Brisbane
BEGIN:STANDARD
TZOFFSETFROM:+1000
TZOFFSETTO:+1000
TZNAME:AEST
DTSTART:20250101T000000
END:STANDARD
END:VTIMEZONE
BEGIN:VEVENT
DTSTART;TZID=Australia/Brisbane:20261004T073000
DTEND;TZID=Australia/Brisbane:20261004T120000
DTSTAMP:20260421T061011
CREATED:20260315T112436Z
LAST-MODIFIED:20260315T112436Z
UID:18531-1791099000-1791115200@sunshinecoastbowmen.org.au
SUMMARY:Introduction to Archery
DESCRIPTION:Our Introduction to Archery courses offer a comprehensive step by step guide to archery starting from absolutely no knowledge at all and taking you to shooting at 3D targets by the end of the session. You will be shown the importance of the correct gear selection\, how a recurve bow works\, how to shoot on our practice ranges before being taken out onto our sports ranges to shoot at a mix of targets over a range of distances to put your newly acquired skills and knowledge to the test! \nThe course kicks off at approximately 830am\, but please arrive by at least 8am for sign on and orientation prior to the start. \nYou can book your course at the following page;\nIntroductory Course – Bookings confirmed upon payment\nCourses are released 1 month prior to the course date and they sell out fast\, so get in quick!
URL:https://sunshinecoastbowmen.org.au/event/introduction-to-archery-9/
LOCATION:Sunshine Coast Bowmen\, 460 Chevallum rd\, Chevallum\, qld\, Australia
CATEGORIES:Intro to Archery Course
ATTACH;FMTTYPE=image/png:https://sunshinecoastbowmen.org.au/wp-content/uploads/2026/03/Intro-Image.png
END:VEVENT
END:VCALENDAR