BEGIN:VCALENDAR
VERSION:2.0
PRODID:-//Sunshine Coast Bowmen - ECPv6.15.20//NONSGML v1.0//EN
CALSCALE:GREGORIAN
METHOD:PUBLISH
X-WR-CALNAME:Sunshine Coast Bowmen
X-ORIGINAL-URL:https://sunshinecoastbowmen.org.au
X-WR-CALDESC:Events for Sunshine Coast Bowmen
REFRESH-INTERVAL;VALUE=DURATION:PT1H
X-Robots-Tag:noindex
X-PUBLISHED-TTL:PT1H
BEGIN:VTIMEZONE
TZID:Australia/Brisbane
BEGIN:STANDARD
TZOFFSETFROM:+1000
TZOFFSETTO:+1000
TZNAME:AEST
DTSTART:20250101T000000
END:STANDARD
END:VTIMEZONE
BEGIN:VEVENT
DTSTART;TZID=Australia/Brisbane:20260906T073000
DTEND;TZID=Australia/Brisbane:20260906T120000
DTSTAMP:20260421T092922
CREATED:20260315T101112Z
LAST-MODIFIED:20260315T103043Z
UID:18456-1788679800-1788696000@sunshinecoastbowmen.org.au
SUMMARY:Club Shoot
DESCRIPTION:Club shoots are a bi-monthly\, fun and friendly event for all members where we shoot together in small groups of 3-6 people on our 3D target range. \nThis is a perfect opportunity to get together with other members and have a laugh while partaking in the sport we all love. It gives us all a chance to both catch up with old friends and make new ones. \nPLEASE ARRIVE BY NO LATER THAN 8:15am SO WE CAN HAVE YOU REGISTERED\, BRIEFED AND READY TO GO BY THE 8:30am START TIME. \nWe do keep score but more for a bit of friendly rivalry on the day and a way of tracking your progress than a full blown competition. There is no pressure to perform on the day\, so don’t be shy and come down to the next club shoot! We look forward to seeing you there. \nPlease note we aim to start at 8:30am sharp\, as such the range will be shut for safety from approximately 8:20am while teams take their starting positions. Late comers will likely miss out on the club shoot\, but are free and encouraged to use the practice ranges and mingle after the shoot is completed.
URL:https://sunshinecoastbowmen.org.au/event/club-shoot-10/
LOCATION:Sunshine Coast Bowmen\, 460 Chevallum rd\, Chevallum\, qld\, Australia
CATEGORIES:Club Shoot
ATTACH;FMTTYPE=image/png:https://sunshinecoastbowmen.org.au/wp-content/uploads/2026/03/Club-Shoot-Image.png
END:VEVENT
BEGIN:VEVENT
DTSTART;TZID=Australia/Brisbane:20260906T073000
DTEND;TZID=Australia/Brisbane:20260906T120000
DTSTAMP:20260421T092922
CREATED:20260315T112312Z
LAST-MODIFIED:20260315T112312Z
UID:18527-1788679800-1788696000@sunshinecoastbowmen.org.au
SUMMARY:Introduction to Archery
DESCRIPTION:Our Introduction to Archery courses offer a comprehensive step by step guide to archery starting from absolutely no knowledge at all and taking you to shooting at 3D targets by the end of the session. You will be shown the importance of the correct gear selection\, how a recurve bow works\, how to shoot on our practice ranges before being taken out onto our sports ranges to shoot at a mix of targets over a range of distances to put your newly acquired skills and knowledge to the test! \nThe course kicks off at approximately 830am\, but please arrive by at least 8am for sign on and orientation prior to the start. \nYou can book your course at the following page;\nIntroductory Course – Bookings confirmed upon payment\nCourses are released 1 month prior to the course date and they sell out fast\, so get in quick!
URL:https://sunshinecoastbowmen.org.au/event/introduction-to-archery-8/
LOCATION:Sunshine Coast Bowmen\, 460 Chevallum rd\, Chevallum\, qld\, Australia
CATEGORIES:Club Shoot
ATTACH;FMTTYPE=image/png:https://sunshinecoastbowmen.org.au/wp-content/uploads/2026/03/Intro-Image.png
END:VEVENT
BEGIN:VEVENT
DTSTART;TZID=Australia/Brisbane:20260920T073000
DTEND;TZID=Australia/Brisbane:20260920T120000
DTSTAMP:20260421T092922
CREATED:20260315T103817Z
LAST-MODIFIED:20260315T103817Z
UID:18481-1789889400-1789905600@sunshinecoastbowmen.org.au
SUMMARY:Club Shoot
DESCRIPTION:Club shoots are a bi-monthly\, fun and friendly event for all members where we shoot together in small groups of 3-6 people on our 3D target range. \nThis is a perfect opportunity to get together with other members and have a laugh while partaking in the sport we all love. It gives us all a chance to both catch up with old friends and make new ones. \nPLEASE ARRIVE BY NO LATER THAN 8:15am SO WE CAN HAVE YOU REGISTERED\, BRIEFED AND READY TO GO BY THE 8:30am START TIME. \nWe do keep score but more for a bit of friendly rivalry on the day and a way of tracking your progress than a full blown competition. There is no pressure to perform on the day\, so don’t be shy and come down to the next club shoot! We look forward to seeing you there. \nPlease note we aim to start at 8:30am sharp\, as such the range will be shut for safety from approximately 8:20am while teams take their starting positions. Late comers will likely miss out on the club shoot\, but are free and encouraged to use the practice ranges and mingle after the shoot is completed.
URL:https://sunshinecoastbowmen.org.au/event/club-shoot-16/
LOCATION:Sunshine Coast Bowmen\, 460 Chevallum rd\, Chevallum\, qld\, Australia
CATEGORIES:Club Shoot
ATTACH;FMTTYPE=image/png:https://sunshinecoastbowmen.org.au/wp-content/uploads/2026/03/Club-Shoot-Image.png
END:VEVENT
BEGIN:VEVENT
DTSTART;TZID=Australia/Brisbane:20261004T073000
DTEND;TZID=Australia/Brisbane:20261004T120000
DTSTAMP:20260421T092922
CREATED:20260315T104013Z
LAST-MODIFIED:20260315T104013Z
UID:18485-1791099000-1791115200@sunshinecoastbowmen.org.au
SUMMARY:Club Shoot
DESCRIPTION:Club shoots are a bi-monthly\, fun and friendly event for all members where we shoot together in small groups of 3-6 people on our 3D target range. \nThis is a perfect opportunity to get together with other members and have a laugh while partaking in the sport we all love. It gives us all a chance to both catch up with old friends and make new ones. \nPLEASE ARRIVE BY NO LATER THAN 8:15am SO WE CAN HAVE YOU REGISTERED\, BRIEFED AND READY TO GO BY THE 8:30am START TIME. \nWe do keep score but more for a bit of friendly rivalry on the day and a way of tracking your progress than a full blown competition. There is no pressure to perform on the day\, so don’t be shy and come down to the next club shoot! We look forward to seeing you there. \nPlease note we aim to start at 8:30am sharp\, as such the range will be shut for safety from approximately 8:20am while teams take their starting positions. Late comers will likely miss out on the club shoot\, but are free and encouraged to use the practice ranges and mingle after the shoot is completed.
URL:https://sunshinecoastbowmen.org.au/event/club-shoot-17/
LOCATION:Sunshine Coast Bowmen\, 460 Chevallum rd\, Chevallum\, qld\, Australia
CATEGORIES:Club Shoot
ATTACH;FMTTYPE=image/png:https://sunshinecoastbowmen.org.au/wp-content/uploads/2026/03/Club-Shoot-Image.png
END:VEVENT
BEGIN:VEVENT
DTSTART;TZID=Australia/Brisbane:20261018T073000
DTEND;TZID=Australia/Brisbane:20261018T120000
DTSTAMP:20260421T092922
CREATED:20260315T104150Z
LAST-MODIFIED:20260315T104150Z
UID:18489-1792308600-1792324800@sunshinecoastbowmen.org.au
SUMMARY:Club Shoot
DESCRIPTION:Club shoots are a bi-monthly\, fun and friendly event for all members where we shoot together in small groups of 3-6 people on our 3D target range. \nThis is a perfect opportunity to get together with other members and have a laugh while partaking in the sport we all love. It gives us all a chance to both catch up with old friends and make new ones. \nPLEASE ARRIVE BY NO LATER THAN 8:15am SO WE CAN HAVE YOU REGISTERED\, BRIEFED AND READY TO GO BY THE 8:30am START TIME. \nWe do keep score but more for a bit of friendly rivalry on the day and a way of tracking your progress than a full blown competition. There is no pressure to perform on the day\, so don’t be shy and come down to the next club shoot! We look forward to seeing you there. \nPlease note we aim to start at 8:30am sharp\, as such the range will be shut for safety from approximately 8:20am while teams take their starting positions. Late comers will likely miss out on the club shoot\, but are free and encouraged to use the practice ranges and mingle after the shoot is completed.
URL:https://sunshinecoastbowmen.org.au/event/club-shoot-18/
LOCATION:Sunshine Coast Bowmen\, 460 Chevallum rd\, Chevallum\, qld\, Australia
CATEGORIES:Club Shoot
ATTACH;FMTTYPE=image/png:https://sunshinecoastbowmen.org.au/wp-content/uploads/2026/03/Club-Shoot-Image.png
END:VEVENT
BEGIN:VEVENT
DTSTART;TZID=Australia/Brisbane:20261101T073000
DTEND;TZID=Australia/Brisbane:20261101T120000
DTSTAMP:20260421T092922
CREATED:20260315T104254Z
LAST-MODIFIED:20260315T104254Z
UID:18493-1793518200-1793534400@sunshinecoastbowmen.org.au
SUMMARY:Club Shoot
DESCRIPTION:Club shoots are a bi-monthly\, fun and friendly event for all members where we shoot together in small groups of 3-6 people on our 3D target range. \nThis is a perfect opportunity to get together with other members and have a laugh while partaking in the sport we all love. It gives us all a chance to both catch up with old friends and make new ones. \nPLEASE ARRIVE BY NO LATER THAN 8:15am SO WE CAN HAVE YOU REGISTERED\, BRIEFED AND READY TO GO BY THE 8:30am START TIME. \nWe do keep score but more for a bit of friendly rivalry on the day and a way of tracking your progress than a full blown competition. There is no pressure to perform on the day\, so don’t be shy and come down to the next club shoot! We look forward to seeing you there. \nPlease note we aim to start at 8:30am sharp\, as such the range will be shut for safety from approximately 8:20am while teams take their starting positions. Late comers will likely miss out on the club shoot\, but are free and encouraged to use the practice ranges and mingle after the shoot is completed.
URL:https://sunshinecoastbowmen.org.au/event/club-shoot-19/
LOCATION:Sunshine Coast Bowmen\, 460 Chevallum rd\, Chevallum\, qld\, Australia
CATEGORIES:Club Shoot
ATTACH;FMTTYPE=image/png:https://sunshinecoastbowmen.org.au/wp-content/uploads/2026/03/Club-Shoot-Image.png
END:VEVENT
BEGIN:VEVENT
DTSTART;TZID=Australia/Brisbane:20261115T073000
DTEND;TZID=Australia/Brisbane:20261115T120000
DTSTAMP:20260421T092922
CREATED:20260315T104518Z
LAST-MODIFIED:20260315T104518Z
UID:18498-1794727800-1794744000@sunshinecoastbowmen.org.au
SUMMARY:Club Shoot
DESCRIPTION:Club shoots are a bi-monthly\, fun and friendly event for all members where we shoot together in small groups of 3-6 people on our 3D target range. \nThis is a perfect opportunity to get together with other members and have a laugh while partaking in the sport we all love. It gives us all a chance to both catch up with old friends and make new ones. \nPLEASE ARRIVE BY NO LATER THAN 8:15am SO WE CAN HAVE YOU REGISTERED\, BRIEFED AND READY TO GO BY THE 8:30am START TIME. \nWe do keep score but more for a bit of friendly rivalry on the day and a way of tracking your progress than a full blown competition. There is no pressure to perform on the day\, so don’t be shy and come down to the next club shoot! We look forward to seeing you there. \nPlease note we aim to start at 8:30am sharp\, as such the range will be shut for safety from approximately 8:20am while teams take their starting positions. Late comers will likely miss out on the club shoot\, but are free and encouraged to use the practice ranges and mingle after the shoot is completed.
URL:https://sunshinecoastbowmen.org.au/event/club-shoot-20/
LOCATION:Sunshine Coast Bowmen\, 460 Chevallum rd\, Chevallum\, qld\, Australia
CATEGORIES:Club Shoot
ATTACH;FMTTYPE=image/png:https://sunshinecoastbowmen.org.au/wp-content/uploads/2026/03/Club-Shoot-Image.png
END:VEVENT
BEGIN:VEVENT
DTSTART;TZID=Australia/Brisbane:20261206T073000
DTEND;TZID=Australia/Brisbane:20261206T120000
DTSTAMP:20260421T092922
CREATED:20260315T104616Z
LAST-MODIFIED:20260315T104616Z
UID:18502-1796542200-1796558400@sunshinecoastbowmen.org.au
SUMMARY:Club Shoot
DESCRIPTION:Club shoots are a bi-monthly\, fun and friendly event for all members where we shoot together in small groups of 3-6 people on our 3D target range. \nThis is a perfect opportunity to get together with other members and have a laugh while partaking in the sport we all love. It gives us all a chance to both catch up with old friends and make new ones. \nPLEASE ARRIVE BY NO LATER THAN 8:15am SO WE CAN HAVE YOU REGISTERED\, BRIEFED AND READY TO GO BY THE 8:30am START TIME. \nWe do keep score but more for a bit of friendly rivalry on the day and a way of tracking your progress than a full blown competition. There is no pressure to perform on the day\, so don’t be shy and come down to the next club shoot! We look forward to seeing you there. \nPlease note we aim to start at 8:30am sharp\, as such the range will be shut for safety from approximately 8:20am while teams take their starting positions. Late comers will likely miss out on the club shoot\, but are free and encouraged to use the practice ranges and mingle after the shoot is completed.
URL:https://sunshinecoastbowmen.org.au/event/club-shoot-21/
LOCATION:Sunshine Coast Bowmen\, 460 Chevallum rd\, Chevallum\, qld\, Australia
CATEGORIES:Club Shoot
ATTACH;FMTTYPE=image/png:https://sunshinecoastbowmen.org.au/wp-content/uploads/2026/03/Club-Shoot-Image.png
END:VEVENT
END:VCALENDAR