BEGIN:VCALENDAR
VERSION:2.0
PRODID:-//Sunshine Coast Bowmen - ECPv6.15.20//NONSGML v1.0//EN
CALSCALE:GREGORIAN
METHOD:PUBLISH
X-WR-CALNAME:Sunshine Coast Bowmen
X-ORIGINAL-URL:https://sunshinecoastbowmen.org.au
X-WR-CALDESC:Events for Sunshine Coast Bowmen
REFRESH-INTERVAL;VALUE=DURATION:PT1H
X-Robots-Tag:noindex
X-PUBLISHED-TTL:PT1H
BEGIN:VTIMEZONE
TZID:Australia/Brisbane
BEGIN:STANDARD
TZOFFSETFROM:+1000
TZOFFSETTO:+1000
TZNAME:AEST
DTSTART:20250101T000000
END:STANDARD
END:VTIMEZONE
BEGIN:VEVENT
DTSTART;TZID=Australia/Brisbane:20260215T083000
DTEND;TZID=Australia/Brisbane:20260215T120000
DTSTAMP:20260421T055103
CREATED:20260116T025020Z
LAST-MODIFIED:20260116T025020Z
UID:18329-1771144200-1771156800@sunshinecoastbowmen.org.au
SUMMARY:Club Shoot
DESCRIPTION:
URL:https://sunshinecoastbowmen.org.au/event/club-shoot/
LOCATION:qld
CATEGORIES:Club Shoot
END:VEVENT
END:VCALENDAR