BEGIN:VCALENDAR
VERSION:2.0
PRODID:-//Sunshine Coast Bowmen - ECPv6.15.20//NONSGML v1.0//EN
CALSCALE:GREGORIAN
METHOD:PUBLISH
X-WR-CALNAME:Sunshine Coast Bowmen
X-ORIGINAL-URL:https://sunshinecoastbowmen.org.au
X-WR-CALDESC:Events for Sunshine Coast Bowmen
REFRESH-INTERVAL;VALUE=DURATION:PT1H
X-Robots-Tag:noindex
X-PUBLISHED-TTL:PT1H
BEGIN:VTIMEZONE
TZID:Australia/Brisbane
BEGIN:STANDARD
TZOFFSETFROM:+1000
TZOFFSETTO:+1000
TZNAME:AEST
DTSTART:20250101T000000
END:STANDARD
END:VTIMEZONE
BEGIN:VEVENT
DTSTART;TZID=Australia/Brisbane:20260301T080000
DTEND;TZID=Australia/Brisbane:20260301T120000
DTSTAMP:20260421T010712
CREATED:20260129T191952Z
LAST-MODIFIED:20260129T191952Z
UID:18354-1772352000-1772366400@sunshinecoastbowmen.org.au
SUMMARY:Introduction to Archery
DESCRIPTION:Bookings can be made via our website app 1 month before the course. Courses fill quickly.
URL:https://sunshinecoastbowmen.org.au/event/introduction-to-archery-3/
LOCATION:qld
CATEGORIES:Intro to Archery Course
END:VEVENT
BEGIN:VEVENT
DTSTART;TZID=Australia/Brisbane:20260301T083000
DTEND;TZID=Australia/Brisbane:20260301T120000
DTSTAMP:20260421T010712
CREATED:20260116T025108Z
LAST-MODIFIED:20260116T025108Z
UID:18332-1772353800-1772366400@sunshinecoastbowmen.org.au
SUMMARY:Club Shoot
DESCRIPTION:
URL:https://sunshinecoastbowmen.org.au/event/club-shoot-2/
LOCATION:qld
CATEGORIES:Club Shoot
END:VEVENT
BEGIN:VEVENT
DTSTART;TZID=Australia/Brisbane:20260301T083000
DTEND;TZID=Australia/Brisbane:20260301T120000
DTSTAMP:20260421T010712
CREATED:20260116T025238Z
LAST-MODIFIED:20260116T025238Z
UID:18335-1772353800-1772366400@sunshinecoastbowmen.org.au
SUMMARY:Introduction to Archery
DESCRIPTION:Bookings can be made via our website app 1 month before the course. Courses fill quickly.
URL:https://sunshinecoastbowmen.org.au/event/introduction-to-archery-2/
LOCATION:qld
CATEGORIES:Intro to Archery Course
END:VEVENT
END:VCALENDAR